BEGIN:VCALENDAR
VERSION:2.0
PRODID:-//Ake Arts &amp; Book Festival - ECPv6.15.3//NONSGML v1.0//EN
CALSCALE:GREGORIAN
METHOD:PUBLISH
X-WR-CALNAME:Ake Arts &amp; Book Festival
X-ORIGINAL-URL:https://akefestival.org/archive
X-WR-CALDESC:Events for Ake Arts &amp; Book Festival
REFRESH-INTERVAL;VALUE=DURATION:PT1H
X-Robots-Tag:noindex
X-PUBLISHED-TTL:PT1H
BEGIN:VTIMEZONE
TZID:Africa/Lagos
BEGIN:STANDARD
TZOFFSETFROM:+0100
TZOFFSETTO:+0100
TZNAME:WAT
DTSTART:20200101T000000
END:STANDARD
END:VTIMEZONE
BEGIN:VEVENT
DTSTART;TZID=Africa/Lagos:20221126T193000
DTEND;TZID=Africa/Lagos:20221126T213000
DTSTAMP:20260426T002143
CREATED:20221115T163054Z
LAST-MODIFIED:20221202T120101Z
UID:24570-1669491000-1669498200@akefestival.org
SUMMARY:Palm Wine & Poetry
DESCRIPTION:[vc_row][vc_column][vc_column_text]This event has become the trademark Ake Festival sign-off event and a firm favourite with the audience. With guests in high spirits after three intense days of enjoying new books and art and mingling and chatting with authors\, creatives\, guests and friends\, the ‘survivors’\, gather to be entertained by the spoken word and rejuvenated with freshly tapped palm wine. The mood is lively\, the poetry powerful and as always\, there is no better way to say “thank you and goodbye”.[/vc_column_text][/vc_column][/vc_row]
URL:https://akefestival.org/archive/event/palm-wine-poetry
LOCATION:Strong Tower Events Centre\, 40 Alfred Rewane Road\, Ikoyi\, Lagos\, Nigeria\, Ikoyi\, Lagos State\, Nigeria
CATEGORIES:Poetry Night
ATTACH;FMTTYPE=image/png:https://akefestival.org/archive/wp-content/uploads/2022/11/Web-PNG_0026_29.png
END:VEVENT
BEGIN:VEVENT
DTSTART;TZID=Africa/Lagos:20211030T190000
DTEND;TZID=Africa/Lagos:20211030T210000
DTSTAMP:20260426T002143
CREATED:20211008T202230Z
LAST-MODIFIED:20211029T074427Z
UID:18963-1635620400-1635627600@akefestival.org
SUMMARY:Poetry
DESCRIPTION:[vc_row][vc_column][vc_column_text] \nThis year\, we are releasing a four-track video album of Wana Udobang’s sublime poems from the Thick Skin collection. In an artistic collaboration where poetry meets moving images\, Abiola Sobo\, Grace Ekpu\, Obii Ifejika and Azam Masoumzade will create visual interpretations of Wana Udobang’s poems. \n[/vc_column_text][/vc_column][/vc_row]
URL:https://akefestival.org/archive/event/poetry-thick-skin/
LOCATION:Lagos State
CATEGORIES:Poetry Night
ATTACH;FMTTYPE=image/png:https://akefestival.org/archive/wp-content/uploads/2021/10/Website-Specs-Poetry.png
END:VEVENT
BEGIN:VEVENT
DTSTART;TZID=Africa/Lagos:20201025T193000
DTEND;TZID=Africa/Lagos:20201025T213000
DTSTAMP:20260426T002143
CREATED:20200921T075447Z
LAST-MODIFIED:20210915T074316Z
UID:12495-1603654200-1603661400@akefestival.org
SUMMARY:Poetry
DESCRIPTION:[vc_row][vc_column][vc_column_text]\nBecause it is African Time\, Wana Udobang is taking us on a trip around the globe to showcase some of the most talented poets performing today. We’re heading to South Africa\, Nigeria\, Ghana\, Senegal\, Jamaica\, UK\, Uganda\, Senegal\, Sudan\, Kenya and Algeria. \n[/vc_column_text][/vc_column][/vc_row]
URL:https://akefestival.org/archive/poetry
LOCATION:Lagos State
CATEGORIES:Poetry Night
ATTACH;FMTTYPE=image/jpeg:https://akefestival.org/archive/wp-content/uploads/2020/09/Poetry-Full.jpg
END:VEVENT
END:VCALENDAR