BEGIN:VCALENDAR
VERSION:2.0
PRODID:-//Ake Arts &amp; Book Festival - ECPv6.15.3//NONSGML v1.0//EN
CALSCALE:GREGORIAN
METHOD:PUBLISH
X-WR-CALNAME:Ake Arts &amp; Book Festival
X-ORIGINAL-URL:https://akefestival.org/archive
X-WR-CALDESC:Events for Ake Arts &amp; Book Festival
REFRESH-INTERVAL;VALUE=DURATION:PT1H
X-Robots-Tag:noindex
X-PUBLISHED-TTL:PT1H
BEGIN:VTIMEZONE
TZID:Africa/Lagos
BEGIN:STANDARD
TZOFFSETFROM:+0100
TZOFFSETTO:+0100
TZNAME:WAT
DTSTART:20200101T000000
END:STANDARD
END:VTIMEZONE
BEGIN:VEVENT
DTSTART;TZID=Africa/Lagos:20201024T163000
DTEND;TZID=Africa/Lagos:20201024T174000
DTSTAMP:20260426T032441
CREATED:20200921T065940Z
LAST-MODIFIED:20201019T060127Z
UID:12480-1603557000-1603561200@akefestival.org
SUMMARY:“Esu is not Satan” and Other Entanglements – A New Anthology of Yoruba Deities (Panel Discussion)
DESCRIPTION:[vc_row][vc_column][vc_column_text] \nAbdulkareem Baba Aminu will chair a discussion with Peju Akande\, Toni Kan\, Araba Ifayemi Elebuibon\, Katharina Fink and Friederike Moschel on the process of researching and producing a new book about the deities of Yorubaland. \n[/vc_column_text][/vc_column][/vc_row]
URL:https://akefestival.org/archive/panel-discussion-%E2%80%9Cesu-is-not-satan%E2%80%9D-and-other-entanglements-%E2%80%93-a-new-anthology-of-yoruba-deities
CATEGORIES:Panel Discussion
ATTACH;FMTTYPE=image/jpeg:https://akefestival.org/archive/wp-content/uploads/2020/10/Panel-47-BW.jpg
END:VEVENT
BEGIN:VEVENT
DTSTART;TZID=Africa/Lagos:20201024T151500
DTEND;TZID=Africa/Lagos:20201024T162500
DTSTAMP:20260426T032441
CREATED:20200921T064555Z
LAST-MODIFIED:20201021T081337Z
UID:12478-1603552500-1603556700@akefestival.org
SUMMARY:A propos de traduction et de la circulation de nos œuvres (Table Rond)
DESCRIPTION:[vc_row][vc_column][vc_column_text] \nLaure Blédou présidera une table rond avec Hemley Boum\, Khadi Hane et Raphael Thierry. \n[/vc_column_text][/vc_column][/vc_row]
URL:https://akefestival.org/archive/panel-discussion-french-a-propos-de-traduction-et-de-la-circulation-de-nos-%C5%93uvres
CATEGORIES:Panel Discussion
ATTACH;FMTTYPE=image/jpeg:https://akefestival.org/archive/wp-content/uploads/2020/09/46.jpg
END:VEVENT
BEGIN:VEVENT
DTSTART;TZID=Africa/Lagos:20201024T151500
DTEND;TZID=Africa/Lagos:20201024T162500
DTSTAMP:20260426T032441
CREATED:20200921T063603Z
LAST-MODIFIED:20201019T060334Z
UID:12476-1603552500-1603556700@akefestival.org
SUMMARY:A Cultural Response to Coronavirus in Africa (Panel Discussion)
DESCRIPTION:[vc_row][vc_column][vc_column_text] \nPeople across the globe are united in the battle to overcome a health crisis that has brought the world to its knees. A journalist\, an artist and a Nollywood star tell us how they got through the darkest days of the pandemic. Eliza Anyangwe will be chatting to Victor Ehikhamenor\, James Murua and Nse Ikpe-Etim to see how much culture has influenced their response to COVID-19. \n[/vc_column_text][/vc_column][/vc_row]
URL:https://akefestival.org/archive/panel-discussion-a-cultural-response-to-coronavirus-in-africa
CATEGORIES:Panel Discussion
ATTACH;FMTTYPE=image/jpeg:https://akefestival.org/archive/wp-content/uploads/2020/09/pANEL-34.jpg
END:VEVENT
BEGIN:VEVENT
DTSTART;TZID=Africa/Lagos:20201024T140000
DTEND;TZID=Africa/Lagos:20201024T151000
DTSTAMP:20260426T032441
CREATED:20200921T060612Z
LAST-MODIFIED:20201019T060542Z
UID:12468-1603548000-1603552200@akefestival.org
SUMMARY:Publishing While African (Panel Discussion)
DESCRIPTION:[vc_row][vc_column][vc_column_text] \nThe brave individuals who are rebuilding the publishing industry in Africa deserve our gratitude. More people are writing books that offer important perspectives and raise the self esteem of African children so why is the publishing industry that serves African readers still so dysfunctional? Molara Wood will be chatting with Thabiso Mahlape\, Louise Umutoni-Bower and Elias Wondimu\, who all work in the publishing industry. \n[/vc_column_text][/vc_column][/vc_row]
URL:https://akefestival.org/archive/panel-discussion-publishing-while-african-
CATEGORIES:Panel Discussion
ATTACH;FMTTYPE=image/jpeg:https://akefestival.org/archive/wp-content/uploads/2020/10/PANEL-33-BW.jpg
END:VEVENT
BEGIN:VEVENT
DTSTART;TZID=Africa/Lagos:20201024T124500
DTEND;TZID=Africa/Lagos:20201024T135500
DTSTAMP:20260426T032441
CREATED:20200921T055314Z
LAST-MODIFIED:20201019T060912Z
UID:12464-1603543500-1603547700@akefestival.org
SUMMARY:Emerging Technologies for Development in Africa (Panel Discussion)
DESCRIPTION:[vc_row][vc_column][vc_column_text] \nThe development of technological infrastructure should usher in an era of digital jobs\, as African countries put appropriate regulations in place to protect their citizens and potential investors. Jerome Okolo will chair a discussion with Isma’il Shomala and Estelle Dogbo and examine emerging technologies in Africa\, and what governments need to do to attract the right investment. \n[/vc_column_text][/vc_column][/vc_row]
URL:https://akefestival.org/archive/panel-discussion-emerging-technologies-for-development-in-africa
CATEGORIES:Panel Discussion
ATTACH;FMTTYPE=image/jpeg:https://akefestival.org/archive/wp-content/uploads/2020/09/PANEL-30-BW.jpg
END:VEVENT
BEGIN:VEVENT
DTSTART;TZID=Africa/Lagos:20201024T113000
DTEND;TZID=Africa/Lagos:20201024T124000
DTSTAMP:20260426T032441
CREATED:20200921T052620Z
LAST-MODIFIED:20201021T083231Z
UID:12456-1603539000-1603543200@akefestival.org
SUMMARY:Decolonising Africa on Feminist Time (Panel Discussion)
DESCRIPTION:[vc_row][vc_column][vc_column_text] \nThis panel will explore the evolution of Feminism in Africa. From working on a Charter for African Feminists to Environmental activism and creating art that pushes boundaries and redefines female power\, feminism in Africa continues to evolve. Jessica Horn will chair a conversation with Bisi Adeleye-Fayemi\, Nana Akosua Hanson and Zulaikha Patel on the milestones of African feminist movements. \n[/vc_column_text][/vc_column][/vc_row]
URL:https://akefestival.org/archive/panel-discussion-decolonising-africa-on-feminist-time
CATEGORIES:Panel Discussion
ATTACH;FMTTYPE=image/jpeg:https://akefestival.org/archive/wp-content/uploads/2020/09/PANEL-29.jpg
END:VEVENT
BEGIN:VEVENT
DTSTART;TZID=Africa/Lagos:20201024T101500
DTEND;TZID=Africa/Lagos:20201024T112500
DTSTAMP:20260426T032441
CREATED:20200921T051132Z
LAST-MODIFIED:20201019T061728Z
UID:12452-1603534500-1603538700@akefestival.org
SUMMARY:When African History Meets Futurism: (Panel Discussion)
DESCRIPTION:[vc_row][vc_column][vc_column_text] \nNnedi Okorafor describes Africanfuturism as being “directly rooted in African culture\, history\, mythology [and] does not privilege or centre the West”. Hosted by Abdulkareem Baba Aminu\, Nnedi Okorafor\, Marlon James and Roye Okupe will talk about the worlds that they have created and the process of mining African legends\, folklore and history to create art. \n[/vc_column_text][/vc_column][/vc_row]
URL:https://akefestival.org/archive/panel-discussion-when-african-history-meets-futurism%3A
CATEGORIES:Panel Discussion
ATTACH;FMTTYPE=image/jpeg:https://akefestival.org/archive/wp-content/uploads/2020/09/PANEL-26.jpg
END:VEVENT
BEGIN:VEVENT
DTSTART;TZID=Africa/Lagos:20201024T101500
DTEND;TZID=Africa/Lagos:20201024T112500
DTSTAMP:20260426T032441
CREATED:20200921T045641Z
LAST-MODIFIED:20201019T061917Z
UID:12448-1603534500-1603538700@akefestival.org
SUMMARY:Agba Meji: Yoruba Comedy on Social Media
DESCRIPTION:[vc_row][vc_column][vc_column_text] \nFeyikemi Niyi-Olayinka (of the Oleku fame) will sit in conversation with two comedians who keep us in hysterics with their skits and antics on Youtube and social media. @Oli_ekun and Agba Ekun are the reigning kings of Yoruba comedy. \n[/vc_column_text][/vc_column][/vc_row]
URL:https://akefestival.org/archive/agba-meji%3A-yoruba-comedy-on-social-media
CATEGORIES:Panel Discussion
ATTACH;FMTTYPE=image/jpeg:https://akefestival.org/archive/wp-content/uploads/2020/09/42.jpg
END:VEVENT
BEGIN:VEVENT
DTSTART;TZID=Africa/Lagos:20201024T090000
DTEND;TZID=Africa/Lagos:20201024T101000
DTSTAMP:20260426T032441
CREATED:20200920T224133Z
LAST-MODIFIED:20201019T062058Z
UID:12441-1603530000-1603534200@akefestival.org
SUMMARY:Social Media\, the Truth and the Threat of State Policing (Panel Discussion)
DESCRIPTION:[vc_row][vc_column][vc_column_text] \nSocial media has revolutionised the way we access information and communicate. However\, it is sometimes misused to circulate lies and slander\, often with no consequences. How do we redefine our relationship with the truth in the social media age? Chaired by Ruona Meyer\, Yemi Adamolekun\, Ayo Obe and Hopewell Chin’ono examine the implications of the state policing of social media. \n[/vc_column_text][/vc_column][/vc_row]
URL:https://akefestival.org/archive/panel-discussion-social-media%2C-the-truth%2C-and-the-threat-of-state-policing
CATEGORIES:Panel Discussion
ATTACH;FMTTYPE=image/jpeg:https://akefestival.org/archive/wp-content/uploads/2020/09/PANEL-25.jpg
END:VEVENT
BEGIN:VEVENT
DTSTART;TZID=Africa/Lagos:20201023T174500
DTEND;TZID=Africa/Lagos:20201023T185500
DTSTAMP:20260426T032441
CREATED:20200920T210432Z
LAST-MODIFIED:20201019T063002Z
UID:12424-1603475100-1603479300@akefestival.org
SUMMARY:How Efficiently Can Technology Solve Africa’s Problems? (Panel Discussion)
DESCRIPTION:[vc_row][vc_column][vc_column_text] \nHosted by Charles Idem\, this panel will determine the efficacy of technology in solving some of Africa’s developmental problems. Can leapfrogging really happen when much of Africa still grapples with poor access to electricity and internet connectivity? Titi Akinsanmi\, Timi Ajiboye and Temie Giwa-Tubosun will address this important question and share their experiences and achievements in this area. \n[/vc_column_text][/vc_column][/vc_row]
URL:https://akefestival.org/archive/panel-discussion-how-efficiently-can-technology-solve-africa%E2%80%99s-problems%3F
CATEGORIES:Panel Discussion
ATTACH;FMTTYPE=image/jpeg:https://akefestival.org/archive/wp-content/uploads/2020/09/PANEL-21.jpg
END:VEVENT
BEGIN:VEVENT
DTSTART;TZID=Africa/Lagos:20201023T163000
DTEND;TZID=Africa/Lagos:20201023T174000
DTSTAMP:20260426T032441
CREATED:20200920T204350Z
LAST-MODIFIED:20201019T063221Z
UID:12420-1603470600-1603474800@akefestival.org
SUMMARY:Writing Queer\, Writing Black (Panel Discussion)
DESCRIPTION:[vc_row][vc_column][vc_column_text] \nThis panel takes a look at the challenges but also the gifts that come with writing when you are a black creative in the LGBTQI+ community in Africa and the African Diaspora. Chaired by Chiké Frankie Edozien\, Nakhane\, Unoma Azuah and Nicole Dennis-Benn will explore creative freedom\, censorship and the unique challenges that arise from being both black and queer in engaging black readers. \n[/vc_column_text][/vc_column][/vc_row]
URL:https://akefestival.org/archive/panel-discussion-writing-queer%2C-writing-black
CATEGORIES:Panel Discussion
ATTACH;FMTTYPE=image/jpeg:https://akefestival.org/archive/wp-content/uploads/2020/09/20.jpg
END:VEVENT
BEGIN:VEVENT
DTSTART;TZID=Africa/Lagos:20201023T163000
DTEND;TZID=Africa/Lagos:20201023T174000
DTSTAMP:20260426T032441
CREATED:20200920T203456Z
LAST-MODIFIED:20201019T063441Z
UID:12418-1603470600-1603474800@akefestival.org
SUMMARY:Why Africa Needs Feminist Giants (Panel Discussion)
DESCRIPTION:[vc_row][vc_column][vc_column_text] \nAlthough African feminists are often written out of history\, social media makes that impossible in the modern day. With increased access to information and allies\, the feminist movement has gained new ground on the African continent. On this panel\, Aisha Salaudeen will talk to Stella Nyanzi\, Mona Eltahawy and Minna Salami about feminist activism and why strong feminist figures are essential to African societies. \n[/vc_column_text][/vc_column][/vc_row]
URL:https://akefestival.org/archive/panel-discussion-why-africa-needs-feminist-giants
CATEGORIES:Panel Discussion
ATTACH;FMTTYPE=image/jpeg:https://akefestival.org/archive/wp-content/uploads/2020/09/19.jpg
END:VEVENT
BEGIN:VEVENT
DTSTART;TZID=Africa/Lagos:20201023T151500
DTEND;TZID=Africa/Lagos:20201023T162500
DTSTAMP:20260426T032441
CREATED:20200920T202345Z
LAST-MODIFIED:20201023T151413Z
UID:12414-1603466100-1603470300@akefestival.org
SUMMARY:Securing the Intellectual Property of Creative Africans (Panel Discussion)
DESCRIPTION:[vc_row][vc_column][vc_column_text] \nPeople help themselves to illegal copies of books\, films and music with a sense of indignation. The unwillingness to control the theft of IP devastates the potential for building a sustainable creative industry. In a panel discussion chaired by Ayodele Morocco-Clarke\, Ade Bantu\, Yejide Kilanko and Bitrus Dauda will provide an insight into the problems and effort to protect IP rights in Africa. \n[/vc_column_text][/vc_column][/vc_row]
URL:https://akefestival.org/archive/panel-discussion-securing-the-intellectual-property-of-creative-africans-%3F
CATEGORIES:Panel Discussion
ATTACH;FMTTYPE=image/jpeg:https://akefestival.org/archive/wp-content/uploads/2020/09/17.jpg
END:VEVENT
BEGIN:VEVENT
DTSTART;TZID=Africa/Lagos:20201023T140000
DTEND;TZID=Africa/Lagos:20201023T151000
DTSTAMP:20260426T032441
CREATED:20200920T195404Z
LAST-MODIFIED:20201023T151603Z
UID:12408-1603461600-1603465800@akefestival.org
SUMMARY:Folktales Sans Moonlight: Writing for Today’s African Children (Panel Discussion)
DESCRIPTION:[vc_row][vc_column][vc_column_text] \nAfrican Folktales were a powerful tool for instilling values into children. On this panel\, Olubunmi Aboderin-Talabi will explore how writers can continue to feed the imagination of African children in an environment that is evolving technologically. Deborah Ahenkorah\, Sarah Odedina and Victoria Inegbedion will look at ways to rebuild the children’s book industry. \n[/vc_column_text][/vc_column][/vc_row]
URL:https://akefestival.org/archive/panel-discussion-folktales-sans-moonlight%3A-writing-for-today%E2%80%99s-african-children
CATEGORIES:Panel Discussion
ATTACH;FMTTYPE=image/jpeg:https://akefestival.org/archive/wp-content/uploads/2020/09/16.jpg
END:VEVENT
BEGIN:VEVENT
DTSTART;TZID=Africa/Lagos:20201023T124500
DTEND;TZID=Africa/Lagos:20201023T135500
DTSTAMP:20260426T032441
CREATED:20200920T191054Z
LAST-MODIFIED:20201019T063854Z
UID:12400-1603457100-1603461300@akefestival.org
SUMMARY:Dealing with a Post-COVID-19 Mental Health Crisis (Panel Discussion)
DESCRIPTION:[vc_row][vc_column][vc_column_text] \nChaired by Maryam Mohammed Aliko\, mental health advocates Leyla Hussein\, William Ebiti and Hauwa Ojeifo will discuss Africa’s preparation for the inevitable continent-wide crises. How will the African continent rise to the challenge when it still stigmatises mental health challenges? This panel will review the long-term effects of social isolation and explore how to strengthen the existing health infrastructure. \n[/vc_column_text][/vc_column][/vc_row]
URL:https://akefestival.org/archive/panel-discussion-dealing-with-a-post-covid-19-mental-health-crisis
CATEGORIES:Panel Discussion
ATTACH;FMTTYPE=image/jpeg:https://akefestival.org/archive/wp-content/uploads/2020/09/13.jpg
END:VEVENT
BEGIN:VEVENT
DTSTART;TZID=Africa/Lagos:20201023T113000
DTEND;TZID=Africa/Lagos:20201023T124000
DTSTAMP:20260426T032441
CREATED:20200920T185750Z
LAST-MODIFIED:20201021T084347Z
UID:12398-1603452600-1603456800@akefestival.org
SUMMARY:The Revolutionary Power of Sexual Pleasure (Panel Discussion)
DESCRIPTION:[vc_row][vc_column][vc_column_text] \nWhere it cannot be suppressed and controlled\, sexual desire in African women is weaponised. It is policed by religion and regulated by archaic cultural traditions. The idea of African women embracing their sensuality is a bone in Patriarchy’s throat. Chaired by Nana Darkoa Sekyiamah\, Tlaleng Mofokeng\, Valentine Njoroge and Pamela Udoka will explore the irrationality of the anxiety around female sexual pleasure. \n[/vc_column_text][/vc_column][/vc_row]
URL:https://akefestival.org/archive/panel-discussion-the-revolutionary-power-of-sexual-pleasure-
CATEGORIES:Panel Discussion
ATTACH;FMTTYPE=image/jpeg:https://akefestival.org/archive/wp-content/uploads/2020/09/12.jpg
END:VEVENT
BEGIN:VEVENT
DTSTART;TZID=Africa/Lagos:20201023T101500
DTEND;TZID=Africa/Lagos:20201023T112500
DTSTAMP:20260426T032441
CREATED:20200920T170855Z
LAST-MODIFIED:20201019T064157Z
UID:12374-1603448100-1603452300@akefestival.org
SUMMARY:Harnessing Anger for Change (Panel Discussion)
DESCRIPTION:[vc_row][vc_column][vc_column_text] \nThe ‘angry black woman’ trope has often been deployed to silence black women who are vocal in driving social movements and demanding real social change. This panel will discuss the importance of harnessing this anger and frustration as a means to an end. Arit Okpo speaks to Kelechi Okafor and Afua Hirsch\, to explore the significance of black women’s voices. \n[/vc_column_text][/vc_column][/vc_row]
URL:https://akefestival.org/archive/panel-discussion-harnessing-anger-for-change
CATEGORIES:Panel Discussion
ATTACH;FMTTYPE=image/jpeg:https://akefestival.org/archive/wp-content/uploads/2020/09/09.jpg
END:VEVENT
BEGIN:VEVENT
DTSTART;TZID=Africa/Lagos:20201023T090000
DTEND;TZID=Africa/Lagos:20201023T101000
DTSTAMP:20260426T032441
CREATED:20200920T172908Z
LAST-MODIFIED:20201019T064256Z
UID:12376-1603443600-1603447800@akefestival.org
SUMMARY:Experience v Energy: Filling the Vacuum of Leadership in Africa (Panel Discussion)
DESCRIPTION:[vc_row][vc_column][vc_column_text] \nAcross Africa\, young people have become increasingly vocal about the failures of leadership. Yet\, youth contribution to public policy remains at a minimum. Kadaria Ahmed will chair a conversation with Wumpini F Mohammed\, Rinsola Abiola and Boniface Mwangi who will examine the causes of political apathy among the youth and identify ways to encourage them to embrace positive political engagement. \n[/vc_column_text][/vc_column][/vc_row]
URL:https://akefestival.org/archive/panel-discussion-experience-v-energy%3A-the-vacuum-of-leadership-in-africa
CATEGORIES:Panel Discussion
ATTACH;FMTTYPE=image/jpeg:https://akefestival.org/archive/wp-content/uploads/2020/09/08.jpg
END:VEVENT
BEGIN:VEVENT
DTSTART;TZID=Africa/Lagos:20201023T090000
DTEND;TZID=Africa/Lagos:20201023T101000
DTSTAMP:20260426T032441
CREATED:20200920T160735Z
LAST-MODIFIED:20201019T112436Z
UID:12362-1603443600-1603447800@akefestival.org
SUMMARY:Exploring the Life and Legacy of Winnie Mandela (Panel Discussion)
DESCRIPTION:[vc_row][vc_column][vc_column_text] \nFour South African women reflect on the complex and eventful life of Winnie Mandela\, one of Africa’s most significant figures. Chaired by Lebo Mashile\, Gail Smith\, Busisiwe C Seabe and Sisonke Msimang will take a close look at the enduring legacy of a woman who\, even in death\, is loved\, embraced and revered by her people\, for reasons those outside South Africa may not fully understand. \n[/vc_column_text][/vc_column][/vc_row]
URL:https://akefestival.org/archive/panel-discussion-exploring-the-life-and-legacy-of-winnie-mandela
CATEGORIES:Panel Discussion
ATTACH;FMTTYPE=image/jpeg:https://akefestival.org/archive/wp-content/uploads/2020/09/07.jpg
END:VEVENT
END:VCALENDAR