BEGIN:VCALENDAR
VERSION:2.0
PRODID:-//Ake Arts &amp; Book Festival - ECPv6.15.3//NONSGML v1.0//EN
CALSCALE:GREGORIAN
METHOD:PUBLISH
X-WR-CALNAME:Ake Arts &amp; Book Festival
X-ORIGINAL-URL:https://akefestival.org/archive
X-WR-CALDESC:Events for Ake Arts &amp; Book Festival
REFRESH-INTERVAL;VALUE=DURATION:PT1H
X-Robots-Tag:noindex
X-PUBLISHED-TTL:PT1H
BEGIN:VTIMEZONE
TZID:Africa/Lagos
BEGIN:STANDARD
TZOFFSETFROM:+0100
TZOFFSETTO:+0100
TZNAME:WAT
DTSTART:20210101T000000
END:STANDARD
END:VTIMEZONE
BEGIN:VEVENT
DTSTART;TZID=Africa/Lagos:20221126T170500
DTEND;TZID=Africa/Lagos:20221126T191000
DTSTAMP:20260426T004303
CREATED:20221115T162500Z
LAST-MODIFIED:20221202T120319Z
UID:24568-1669482300-1669489800@akefestival.org
SUMMARY:Life and Time Series
DESCRIPTION:[vc_row][vc_column][vc_column_text]Life and Time Series – Veronique Tadjo[/vc_column_text][/vc_column][/vc_row]
URL:https://akefestival.org/archive/event/life-and-time-series-veronique-tadjo/
LOCATION:Strong Tower Events Centre\, 40 Alfred Rewane Road\, Ikoyi\, Lagos\, Nigeria\, Ikoyi\, Lagos State\, Nigeria
CATEGORIES:Life and Time Series
ATTACH;FMTTYPE=image/png:https://akefestival.org/archive/wp-content/uploads/2022/11/Web-PNG_0025_28.png
END:VEVENT
BEGIN:VEVENT
DTSTART;TZID=Africa/Lagos:20211030T174500
DTEND;TZID=Africa/Lagos:20211030T185500
DTSTAMP:20260426T004303
CREATED:20211007T145743Z
LAST-MODIFIED:20211029T153342Z
UID:18923-1635615900-1635620100@akefestival.org
SUMMARY:Life and Time Series
DESCRIPTION:[vc_row][vc_column][vc_column_text] \nThis year\, Maaza Mengiste talks to Abdulrazak Gurnah about his 10th novel Afterlives\, a compelling novel that takes us to the early 20th century Tanzania during Germany’s violent and brutal colonial rule in East Africa. With a focus on Afterlives\, Abdulrazak Gurnah’s latest novel\, Mengiste will also discuss writing\, inspiration\, imagination\, history\, politics and Africa’s struggles with the legacies of colonialism. Join this conversation between two of Africa’s greatest living writers. \n[/vc_column_text][/vc_column][/vc_row]
URL:https://akefestival.org/archive/event/life-and-time-series/
LOCATION:Lagos State
CATEGORIES:Life and Time Series
ATTACH;FMTTYPE=image/png:https://akefestival.org/archive/wp-content/uploads/2021/10/life-series-abd.png
END:VEVENT
END:VCALENDAR