BEGIN:VCALENDAR
VERSION:2.0
PRODID:-//Ake Arts &amp; Book Festival - ECPv6.15.3//NONSGML v1.0//EN
CALSCALE:GREGORIAN
METHOD:PUBLISH
X-ORIGINAL-URL:https://akefestival.org/archive
X-WR-CALDESC:Events for Ake Arts &amp; Book Festival
REFRESH-INTERVAL;VALUE=DURATION:PT1H
X-Robots-Tag:noindex
X-PUBLISHED-TTL:PT1H
BEGIN:VTIMEZONE
TZID:Africa/Lagos
BEGIN:STANDARD
TZOFFSETFROM:+0100
TZOFFSETTO:+0100
TZNAME:WAT
DTSTART:20210101T000000
END:STANDARD
END:VTIMEZONE
BEGIN:VEVENT
DTSTART;TZID=Africa/Lagos:20221126T114000
DTEND;TZID=Africa/Lagos:20221126T124000
DTSTAMP:20260426T033329
CREATED:20221115T160412Z
LAST-MODIFIED:20221202T121543Z
UID:24558-1669462800-1669466400@akefestival.org
SUMMARY:Far From Being a Country Femi Elufowoju jr (Interview)
DESCRIPTION:[vc_row][vc_column][vc_column_text]xxx years ago\, the award winning Nigerian performer and Theatre Director\, Femi Elufowoju Jr\, made a life-changing decision: to visit each of the 54 countries on the African continent. He has almost completed his challenge and sits down with Kadaria Ahmed to recount some if the incredible adventures and life-lessons he experienced along the way.[/vc_column_text]Register Now[/vc_column][/vc_row]
URL:https://akefestival.org/archive/event/art-for-advancing-civic-participation-panel-discussion
LOCATION:Strong Tower Events Centre\, 40 Alfred Rewane Road\, Ikoyi\, Lagos\, Nigeria\, Ikoyi\, Lagos State\, Nigeria
CATEGORIES:Interview
ATTACH;FMTTYPE=image/png:https://akefestival.org/archive/wp-content/uploads/2022/11/Web-PNG_0020_23.png
END:VEVENT
BEGIN:VEVENT
DTSTART;TZID=Africa/Lagos:20221124T170500
DTEND;TZID=Africa/Lagos:20221124T180500
DTSTAMP:20260426T033329
CREATED:20221115T143815Z
LAST-MODIFIED:20221117T100743Z
UID:24526-1669309500-1669313100@akefestival.org
SUMMARY:Chess in Nigerian Slums with Tunde Onakoya (Interview)
DESCRIPTION:[vc_row][vc_column][vc_column_text]A slum may sound like an unlikely place for chess to thrive\, but some chess enthusiasts knew better. Taking the game to deprived areas\, teaching the locals and running competitions proved to be a surprising success. What are the benefits to society though? Does it help keep miscreants in check? Should we expand it across board? Tunde Onakoya will describe his project in more detail and see if he can recruit some arts enthusiasts to the chess-playing community\, and perhaps to join his team playing chess in unusual places.[/vc_column_text]Register Now[/vc_column][/vc_row]
URL:https://akefestival.org/archive/event/chess-in-nigerian-slums-with-tunde-onakoya-interview
LOCATION:Strong Tower Events Centre\, 40 Alfred Rewane Road\, Ikoyi\, Lagos\, Nigeria\, Ikoyi\, Lagos State\, Nigeria
CATEGORIES:Interview
ATTACH;FMTTYPE=image/png:https://akefestival.org/archive/wp-content/uploads/2022/11/Web-PNG_0005_08.png
END:VEVENT
BEGIN:VEVENT
DTSTART;TZID=Africa/Lagos:20211030T213000
DTEND;TZID=Africa/Lagos:20211030T223000
DTSTAMP:20260426T033329
CREATED:20211024T153703Z
LAST-MODIFIED:20211029T075840Z
UID:20954-1635629400-1635633000@akefestival.org
SUMMARY:Interview
DESCRIPTION:[vc_row][vc_column][vc_column_text] \nIn partnership with Cheltenham Literature Festival\, we present a frank and riveting conversation between Africa’s first Nobel Laureate in Literature\, Wole Soyinka and culture journalist\, Molara Wood. They discuss poetry\, politics and Chronicles from the Land of the Happiest People on Earth—a savagely witty whodunit\, and a scathing indictment of Nigeria’s political class. \n[/vc_column_text][/vc_column][/vc_row]
URL:https://akefestival.org/archive/event/interview/
LOCATION:Lagos State
CATEGORIES:Interview
ATTACH;FMTTYPE=image/png:https://akefestival.org/archive/wp-content/uploads/2021/10/Website-Specs-Int.png
END:VEVENT
END:VCALENDAR