BEGIN:VCALENDAR
VERSION:2.0
PRODID:-//Ake Arts &amp; Book Festival - ECPv6.15.3//NONSGML v1.0//EN
CALSCALE:GREGORIAN
METHOD:PUBLISH
X-ORIGINAL-URL:https://akefestival.org/archive
X-WR-CALDESC:Events for Ake Arts &amp; Book Festival
REFRESH-INTERVAL;VALUE=DURATION:PT1H
X-Robots-Tag:noindex
X-PUBLISHED-TTL:PT1H
BEGIN:VTIMEZONE
TZID:Africa/Lagos
BEGIN:STANDARD
TZOFFSETFROM:+0100
TZOFFSETTO:+0100
TZNAME:WAT
DTSTART:20210101T000000
END:STANDARD
END:VTIMEZONE
BEGIN:VEVENT
DTSTART;TZID=Africa/Lagos:20211030T151500
DTEND;TZID=Africa/Lagos:20211030T162500
DTSTAMP:20260426T045150
CREATED:20210921T080347Z
LAST-MODIFIED:20211029T075731Z
UID:18474-1635606900-1635611100@akefestival.org
SUMMARY:Gender and Feminism (Intergenerational Discussion)
DESCRIPTION:[vc_row][vc_column][vc_column_text] \nLike feminism\, the subject of gender is hotly debated on the African continent. In some countries\, there is new legislation which accommodate LGBTQI+ rights\, but in other\, there has been a backward trajectory. Many hold the view that gender is the meeting point of intersectional feminism and LGBTQI+ movements. This panel will examine the evolution of feminism on the African continent\, whilst exploring new paths for acknowledging our collective humanity. \n[/vc_column_text][/vc_column][/vc_row]
URL:https://akefestival.org/archive/event/gender-and-feminism-intergenerational-discussion/
CATEGORIES:Intergenerational Discussion
ATTACH;FMTTYPE=image/png:https://akefestival.org/archive/wp-content/uploads/2021/09/Website-Specs-p-24-No-B.png
END:VEVENT
BEGIN:VEVENT
DTSTART;TZID=Africa/Lagos:20211030T101500
DTEND;TZID=Africa/Lagos:20211030T112500
DTSTAMP:20260426T045150
CREATED:20210921T092132Z
LAST-MODIFIED:20211029T075140Z
UID:18486-1635588900-1635593100@akefestival.org
SUMMARY:Love\, Sex and Relationships (Intergenerational Discussion)
DESCRIPTION:[vc_row][vc_column][vc_column_text] \nWe all desire to love and be loved. For romantic relationships\, sex forms a core part of expressing this emotion. While love is spoken about openly and with cheerful longing\, a culture of shame\, misplaced ideals of purity and religious adherence have clouded the conversation around healthy sexual desires and interactions. The result? Abuse\, bodily harm and even death. This panel will examine different attitudes towards love and sex\, and explore how ‘healthy relationships’ might look. \n[/vc_column_text][/vc_column][/vc_row]
URL:https://akefestival.org/archive/event/love-sex-and-relationships-intergenerational-discussion/
CATEGORIES:Intergenerational Discussion
ATTACH;FMTTYPE=image/png:https://akefestival.org/archive/wp-content/uploads/2021/09/Website-Specs-p-20-No-B.png
END:VEVENT
BEGIN:VEVENT
DTSTART;TZID=Africa/Lagos:20211029T174500
DTEND;TZID=Africa/Lagos:20211029T185500
DTSTAMP:20260426T045150
CREATED:20210921T082341Z
LAST-MODIFIED:20211028T182509Z
UID:18481-1635529500-1635533700@akefestival.org
SUMMARY:Wealth and Success (Intergenerational Discussion)
DESCRIPTION:[vc_row][vc_column][vc_column_text] \nThose who have enjoyed access to political power continue to top the list of ‘Richest Africans.’ Some describe it as further evidence of the total erosion of meritocratic ideals. Unstable economies and disabling policies are forcing many young African entrepreneurs to seek greener pastures. What will the fall-out be? Is there a way to reverse this trend? How can we ensure that African states invest in their future? \n[/vc_column_text][/vc_column][/vc_row]
URL:https://akefestival.org/archive/event/wealth-and-success-intergenerational-discussion/
CATEGORIES:Intergenerational Discussion
ATTACH;FMTTYPE=image/png:https://akefestival.org/archive/wp-content/uploads/2021/09/Website-Specs-p-17-No-B.png
END:VEVENT
BEGIN:VEVENT
DTSTART;TZID=Africa/Lagos:20211028T174500
DTEND;TZID=Africa/Lagos:20211028T185500
DTSTAMP:20260426T045150
CREATED:20211005T171638Z
LAST-MODIFIED:20211027T211513Z
UID:18847-1635443100-1635447300@akefestival.org
SUMMARY:Spirituality and Religion (Intergenerational Discussion)
DESCRIPTION:[vc_row][vc_column][vc_column_text] \nSeeking a connection to a higher purpose is said to be innate to human beings\, but many young people are choosing belief systems that are very different from the paths taken by previous generations. People talk about spirituality but what does it really mean? And where does this leave the increasing number of nonbelievers? Are younger generations of Africans developing an aversion to the religious beliefs of their parents? \n[/vc_column_text][/vc_column][/vc_row]
URL:https://akefestival.org/archive/event/spirituality-and-religion-intergenerational-discussion/
CATEGORIES:Intergenerational Discussion
ATTACH;FMTTYPE=image/png:https://akefestival.org/archive/wp-content/uploads/2021/10/Website-Specs-P-08.png
END:VEVENT
BEGIN:VEVENT
DTSTART;TZID=Africa/Lagos:20211028T101500
DTEND;TZID=Africa/Lagos:20211028T112500
DTSTAMP:20260426T045150
CREATED:20210929T132011Z
LAST-MODIFIED:20211027T205625Z
UID:18742-1635416100-1635420300@akefestival.org
SUMMARY:Politics and Activism (Intergenerational Discussion)
DESCRIPTION:[vc_row][vc_column][vc_column_text] \nAcross Africa\, activism in the form of people power has been dominating headlines as a result of some major victories against entrenched interests. Technology and the convening power of the internet has played a major role in this. Africa seems to be at a developmental crossroads. This panel seeks to examine the lessons of the past and reimagine how we can apply these to achieving societal change today and for the future. \n[/vc_column_text][/vc_column][/vc_row]
URL:https://akefestival.org/archive/event/politics-and-activism-intergenerational-discussion/
CATEGORIES:Intergenerational Discussion
ATTACH;FMTTYPE=image/png:https://akefestival.org/archive/wp-content/uploads/2021/09/Website-Specs-P-02.png
END:VEVENT
END:VCALENDAR