BEGIN:VCALENDAR
VERSION:2.0
PRODID:-//Ake Arts &amp; Book Festival - ECPv6.15.3//NONSGML v1.0//EN
CALSCALE:GREGORIAN
METHOD:PUBLISH
X-WR-CALNAME:Ake Arts &amp; Book Festival
X-ORIGINAL-URL:https://akefestival.org/archive
X-WR-CALDESC:Events for Ake Arts &amp; Book Festival
REFRESH-INTERVAL;VALUE=DURATION:PT1H
X-Robots-Tag:noindex
X-PUBLISHED-TTL:PT1H
BEGIN:VTIMEZONE
TZID:Africa/Lagos
BEGIN:STANDARD
TZOFFSETFROM:+0100
TZOFFSETTO:+0100
TZNAME:WAT
DTSTART:20210101T000000
END:STANDARD
END:VTIMEZONE
BEGIN:VEVENT
DTSTART;TZID=Africa/Lagos:20221124T193000
DTEND;TZID=Africa/Lagos:20221124T213000
DTSTAMP:20260426T033433
CREATED:20221115T145407Z
LAST-MODIFIED:20221117T100453Z
UID:24530-1669318200-1669325400@akefestival.org
SUMMARY:The King’s Horseman (BTS) - Film
DESCRIPTION:[vc_row][vc_column][vc_column_text]This is the Nigerian Premiere of the screen adaptation of Wole Soyinka’s play\, Death and the Kings Horseman. Produced for the Netflix platform\, Biyi Bandele’s tight screenplay brings the essence of this powerful story to the small screen. The colonial imposition\, the cultural imperatives\, the clash and the inevitable culmination in tragedy all comes to life in this colourful and lively adaptation of Soyinka’s work. Starring Adekola Odunlade and Shafii Bello\, Produced by Mo Abudu.[/vc_column_text]Register Now[/vc_column][/vc_row]
URL:https://akefestival.org/archive/event/the-kings-horseman-bts-film
LOCATION:Strong Tower Events Centre\, 40 Alfred Rewane Road\, Ikoyi\, Lagos\, Nigeria\, Ikoyi\, Lagos State\, Nigeria
CATEGORIES:Film
ATTACH;FMTTYPE=image/png:https://akefestival.org/archive/wp-content/uploads/2022/11/Web-PNG_0007_10.png
END:VEVENT
BEGIN:VEVENT
DTSTART;TZID=Africa/Lagos:20211028T213000
DTEND;TZID=Africa/Lagos:20211028T223000
DTSTAMP:20260426T033433
CREATED:20211008T202812Z
LAST-MODIFIED:20211027T212420Z
UID:19015-1635456600-1635460200@akefestival.org
SUMMARY:Film
DESCRIPTION:[vc_row][vc_column][vc_column_text] \nYou Hide me is considered the first documentary film from English-speaking independent Africa. Shot in England in 1970\, You Hide Me captures the visit of two Africans to the British Museum where they discover the extent of the theft and concealment of ancient and rare African Art\, specifically Benin bronzes\, hidden in plastic bags and wooden boxes in the basement. With this film\, Owoo makes the case for looted artworks to be returned to their place of origin. \n[/vc_column_text][/vc_column][/vc_row]
URL:https://akefestival.org/archive/event/film/
LOCATION:Lagos State
CATEGORIES:Film
ATTACH;FMTTYPE=image/jpeg:https://akefestival.org/archive/wp-content/uploads/2021/10/flm.jpg
END:VEVENT
END:VCALENDAR