BEGIN:VCALENDAR
VERSION:2.0
PRODID:-//Ake Arts &amp; Book Festival - ECPv6.15.3//NONSGML v1.0//EN
CALSCALE:GREGORIAN
METHOD:PUBLISH
X-ORIGINAL-URL:https://akefestival.org/archive
X-WR-CALDESC:Events for Ake Arts &amp; Book Festival
REFRESH-INTERVAL;VALUE=DURATION:PT1H
X-Robots-Tag:noindex
X-PUBLISHED-TTL:PT1H
BEGIN:VTIMEZONE
TZID:Africa/Lagos
BEGIN:STANDARD
TZOFFSETFROM:+0100
TZOFFSETTO:+0100
TZNAME:WAT
DTSTART:20220101T000000
END:STANDARD
END:VTIMEZONE
BEGIN:VEVENT
DTSTART;TZID=Africa/Lagos:20221126T103500
DTEND;TZID=Africa/Lagos:20221126T113500
DTSTAMP:20260426T015503
CREATED:20221115T155332Z
LAST-MODIFIED:20221202T121705Z
UID:24555-1669458900-1669462500@akefestival.org
SUMMARY:In conversation with Jennifer Makumbi (Conversation)
DESCRIPTION:[vc_row][vc_column][vc_column_text]Jennifer Makumbi will discuss her second novel\, an epic yet deeply personal mix of Ugandan folklore and modern feminism. The protagonist\, a teenager called Kirabo enters her teens\, she wonders about the mother she has never known\, and sets out to find the truth. Her search plunges her into a world of magic\, tradition\, and the haunting legend of ‘The First Woman’.[/vc_column_text]Register Now[/vc_column][/vc_row]
URL:https://akefestival.org/archive/event/in-conversation-with-jennifer-makumbi-conversation
LOCATION:Strong Tower Events Centre\, 40 Alfred Rewane Road\, Ikoyi\, Lagos\, Nigeria\, Ikoyi\, Lagos State\, Nigeria
CATEGORIES:Conversation
ATTACH;FMTTYPE=image/png:https://akefestival.org/archive/wp-content/uploads/2022/11/Web-PNG_0018_21.png
END:VEVENT
BEGIN:VEVENT
DTSTART;TZID=Africa/Lagos:20221125T145500
DTEND;TZID=Africa/Lagos:20221125T155500
DTSTAMP:20260426T015503
CREATED:20221115T152735Z
LAST-MODIFIED:20221202T122704Z
UID:24543-1669388100-1669391700@akefestival.org
SUMMARY:In conversation with Nnedi Okorafor (Conversation)
DESCRIPTION:[vc_row][vc_column][vc_column_text]In her chat with host Mohale Mashigo\, prize-winning author\, Nnedi Okorafor will talk about her recent departure from the genre in which she made her name. Her inspirational new book\, Broken Places Outer Spaces\, describes her early life as a college track star and budding entomologist\, before she was diagnosed with scoliosis. After surgery she is unable to move her legs and is bedridden. Documenting her experiences starts her journey to becoming a successful science fiction author.[/vc_column_text]Register Now[/vc_column][/vc_row]
URL:https://akefestival.org/archive/event/in-conversation-with-nnedi-okorafor-conversation
LOCATION:Strong Tower Events Centre\, 40 Alfred Rewane Road\, Ikoyi\, Lagos\, Nigeria\, Ikoyi\, Lagos State\, Nigeria
CATEGORIES:Conversation
ATTACH;FMTTYPE=image/png:https://akefestival.org/archive/wp-content/uploads/2022/11/Web-PNG_0013_16.png
END:VEVENT
BEGIN:VEVENT
DTSTART;TZID=Africa/Lagos:20221124T145500
DTEND;TZID=Africa/Lagos:20221124T155500
DTSTAMP:20260426T015503
CREATED:20221115T142440Z
LAST-MODIFIED:20221117T101536Z
UID:24522-1669301700-1669305300@akefestival.org
SUMMARY:In conversation with Tendai Huchu (Conversation)
DESCRIPTION:[vc_row][vc_column]Register Now[/vc_column][/vc_row]
URL:https://akefestival.org/archive/event/in-conversation-with-tendai-huchu-conversation
LOCATION:Strong Tower Events Centre\, 40 Alfred Rewane Road\, Ikoyi\, Lagos\, Nigeria\, Ikoyi\, Lagos State\, Nigeria
CATEGORIES:Conversation
ATTACH;FMTTYPE=image/png:https://akefestival.org/archive/wp-content/uploads/2022/11/Web-PNG_0003_06.png
END:VEVENT
BEGIN:VEVENT
DTSTART;TZID=Africa/Lagos:20221124T124500
DTEND;TZID=Africa/Lagos:20221124T134500
DTSTAMP:20260426T015503
CREATED:20221115T141626Z
LAST-MODIFIED:20221117T093933Z
UID:24517-1669293900-1669297500@akefestival.org
SUMMARY:In conversation with Zukiswa Wanner (Conversation)
DESCRIPTION:[vc_row][vc_column]Register Now[/vc_column][/vc_row]
URL:https://akefestival.org/archive/event/in-conversation-with-zukiswa-wanner-conversation
LOCATION:Strong Tower Events Centre\, 40 Alfred Rewane Road\, Ikoyi\, Lagos\, Nigeria\, Ikoyi\, Lagos State\, Nigeria
CATEGORIES:Conversation
ATTACH;FMTTYPE=image/png:https://akefestival.org/archive/wp-content/uploads/2022/11/Web-PNG_0002_04.png
END:VEVENT
END:VCALENDAR