BEGIN:VCALENDAR
VERSION:2.0
PRODID:-//Ake Arts &amp; Book Festival - ECPv6.15.3//NONSGML v1.0//EN
CALSCALE:GREGORIAN
METHOD:PUBLISH
X-WR-CALNAME:Ake Arts &amp; Book Festival
X-ORIGINAL-URL:https://akefestival.org/archive
X-WR-CALDESC:Events for Ake Arts &amp; Book Festival
REFRESH-INTERVAL;VALUE=DURATION:PT1H
X-Robots-Tag:noindex
X-PUBLISHED-TTL:PT1H
BEGIN:VTIMEZONE
TZID:Africa/Lagos
BEGIN:STANDARD
TZOFFSETFROM:+0100
TZOFFSETTO:+0100
TZNAME:WAT
DTSTART:20200101T000000
END:STANDARD
END:VTIMEZONE
BEGIN:VEVENT
DTSTART;TZID=Africa/Lagos:20221125T193000
DTEND;TZID=Africa/Lagos:20221125T213000
DTSTAMP:20260426T014755
CREATED:20221115T154314Z
LAST-MODIFIED:20221202T122033Z
UID:24551-1669404600-1669411800@akefestival.org
SUMMARY:Concert
DESCRIPTION:[vc_row][vc_column]Register Now[/vc_column][/vc_row]
URL:https://akefestival.org/archive/event/concert
LOCATION:Strong Tower Events Centre\, 40 Alfred Rewane Road\, Ikoyi\, Lagos\, Nigeria\, Ikoyi\, Lagos State\, Nigeria
CATEGORIES:Concert
ATTACH;FMTTYPE=image/png:https://akefestival.org/archive/wp-content/uploads/2022/11/Web-PNG_0017_20.png
END:VEVENT
BEGIN:VEVENT
DTSTART;TZID=Africa/Lagos:20201023T193000
DTEND;TZID=Africa/Lagos:20201023T213000
DTSTAMP:20260426T014755
CREATED:20200920T212014Z
LAST-MODIFIED:20201019T062911Z
UID:12426-1603481400-1603488600@akefestival.org
SUMMARY:Music at Ake Festival (Concert)
DESCRIPTION:[vc_row][vc_column][vc_column_text] \nFrom the streets of Soweto to the beats of Brazil\, Ade Bantu takes us on a short tour of the African sound from around the world. In the spirit of African Time\, the festival theme\, the 2020 Ake Festival concert is bringing together artists from Nigeria\, Morocco\, Ivory Coast\, Kenya\, Brazil\, the UK\, the US and South Africa to perform for viewers. \n[/vc_column_text][/vc_column][/vc_row]
URL:https://akefestival.org/archive/concert
LOCATION:Lagos State
CATEGORIES:Concert
ATTACH;FMTTYPE=image/jpeg:https://akefestival.org/archive/wp-content/uploads/2020/09/Concert-Full.jpg
END:VEVENT
END:VCALENDAR